BEGIN:VCALENDAR
VERSION:2.0
PRODID:-//Besucherbergwerk Barsinghausen - ECPv6.15.20//NONSGML v1.0//EN
CALSCALE:GREGORIAN
METHOD:PUBLISH
X-WR-CALNAME:Besucherbergwerk Barsinghausen
X-ORIGINAL-URL:https://besucherbergwerk-barsinghausen.de
X-WR-CALDESC:Veranstaltungen für Besucherbergwerk Barsinghausen
REFRESH-INTERVAL;VALUE=DURATION:PT1H
X-Robots-Tag:noindex
X-PUBLISHED-TTL:PT1H
BEGIN:VTIMEZONE
TZID:UTC
BEGIN:STANDARD
TZOFFSETFROM:+0000
TZOFFSETTO:+0000
TZNAME:UTC
DTSTART:20250101T000000
END:STANDARD
END:VTIMEZONE
BEGIN:VEVENT
DTSTART;TZID=UTC:20260906T000000
DTEND;TZID=UTC:20260906T235959
DTSTAMP:20260424T204315
CREATED:20250918T093938Z
LAST-MODIFIED:20250918T093938Z
UID:860-1788652800-1788739199@besucherbergwerk-barsinghausen.de
SUMMARY:Regionsentdeckertag
DESCRIPTION:Regionsentdeckertag\n06. September 2026 \n\nEin Tag voller spannender Entdeckungen und Aktivitäten für die ganze Familie.\nAuch hier bieten wir wieder den ganzen Tag über spannende Einfahrten in den Klosterstollen an. Kommt vorbei\, wir freuen uns auf Euch!
URL:https://besucherbergwerk-barsinghausen.de/event/regionsentdeckertag/
LOCATION:Niedersachsen
ORGANIZER;CN="Besucherbergwerk Barsinghausen":MAILTO:info@besucherbergwerk-barsinghausen.de
END:VEVENT
END:VCALENDAR